BEGIN:VCALENDAR
VERSION:2.0
PRODID:-//D5 Designs - ECPv6.15.20//NONSGML v1.0//EN
CALSCALE:GREGORIAN
METHOD:PUBLISH
X-ORIGINAL-URL:https://bjacob.profreed.com
X-WR-CALDESC:Events for D5 Designs
REFRESH-INTERVAL;VALUE=DURATION:PT1H
X-Robots-Tag:noindex
X-PUBLISHED-TTL:PT1H
BEGIN:VTIMEZONE
TZID:America/Los_Angeles
BEGIN:DAYLIGHT
TZOFFSETFROM:-0800
TZOFFSETTO:-0700
TZNAME:PDT
DTSTART:20250309T100000
END:DAYLIGHT
BEGIN:STANDARD
TZOFFSETFROM:-0700
TZOFFSETTO:-0800
TZNAME:PST
DTSTART:20251102T090000
END:STANDARD
BEGIN:DAYLIGHT
TZOFFSETFROM:-0800
TZOFFSETTO:-0700
TZNAME:PDT
DTSTART:20260308T100000
END:DAYLIGHT
BEGIN:STANDARD
TZOFFSETFROM:-0700
TZOFFSETTO:-0800
TZNAME:PST
DTSTART:20261101T090000
END:STANDARD
BEGIN:DAYLIGHT
TZOFFSETFROM:-0800
TZOFFSETTO:-0700
TZNAME:PDT
DTSTART:20270314T100000
END:DAYLIGHT
BEGIN:STANDARD
TZOFFSETFROM:-0700
TZOFFSETTO:-0800
TZNAME:PST
DTSTART:20271107T090000
END:STANDARD
END:VTIMEZONE
BEGIN:VEVENT
DTSTART;TZID=America/Los_Angeles:20260601T080000
DTEND;TZID=America/Los_Angeles:20260601T170000
DTSTAMP:20260423T230303
CREATED:20260416T175250Z
LAST-MODIFIED:20260416T175250Z
UID:97-1780300800-1780333200@bjacob.profreed.com
SUMMARY:End of Season Sale
DESCRIPTION:
URL:https://bjacob.profreed.com/event/end-of-season-sale/
END:VEVENT
BEGIN:VEVENT
DTSTART;TZID=America/Los_Angeles:20260719T190000
DTEND;TZID=America/Los_Angeles:20260719T220000
DTSTAMP:20260423T230303
CREATED:20260416T175436Z
LAST-MODIFIED:20260416T175834Z
UID:99-1784487600-1784498400@bjacob.profreed.com
SUMMARY:Art Show
DESCRIPTION:We are assuming you have some clips from this season you want to share so send them are way and we are going to make them all into a Movie (art show) so everyone can see what you drew this year.
URL:https://bjacob.profreed.com/event/art-show/
END:VEVENT
BEGIN:VEVENT
DTSTART;TZID=America/Los_Angeles:20260913T080000
DTEND;TZID=America/Los_Angeles:20260913T140000
DTSTAMP:20260423T230303
CREATED:20260416T175711Z
LAST-MODIFIED:20260416T175711Z
UID:101-1789286400-1789308000@bjacob.profreed.com
SUMMARY:Clean up
DESCRIPTION:We would like all of you to come show up and show out for this resort clean up before the next season starts the more the merry.
URL:https://bjacob.profreed.com/event/clean-up/
END:VEVENT
END:VCALENDAR